BEGIN:VCALENDAR
VERSION:2.0
PRODID:-//ChamberMaster//Event Calendar 2.0//EN
METHOD:PUBLISH
X-PUBLISHED-TTL:P1H
REFRESH-INTERVAL:P1H
CALSCALE:GREGORIAN
BEGIN:VTIMEZONE
TZID:America/New_York
BEGIN:DAYLIGHT
RRULE:FREQ=YEARLY;BYMONTH=3;BYDAY=2SU
DTSTART:20070101T000000
TZOFFSETFROM:-0500
TZOFFSETTO:-0400
TZNAME:Eastern Daylight Time
END:DAYLIGHT
BEGIN:STANDARD
RRULE:FREQ=YEARLY;BYMONTH=11;BYDAY=1SU
DTSTART:20070101T000000
TZOFFSETFROM:-0400
TZOFFSETTO:-0500
TZNAME:Eastern Standard Time
END:STANDARD
END:VTIMEZONE
BEGIN:VEVENT
DTSTART;TZID=America/New_York:20260616T160000
DTEND;TZID=America/New_York:20260616T190000
X-MICROSOFT-CDO-ALLDAYEVENT:FALSE
SUMMARY:ACEC/MA Annual Celebration 2026
DESCRIPTION:SAVE THE DATEJoin ACEC/MA as we mark the end of another successful year. We will celebrate our FY2026 Board of Directors and Committee/Forum leaders and introduce our FY2027 Board at this reception\, as we enjoy appetizers and cocktails with plenty of opportunities for networking. More information coming soon!
X-ALT-DESC;FMTTYPE=text/html:<!DOCTYPE html><html><head><title></title></head><body aria-disabled="false"><p><strong fr-original-style="" style="font-weight: 700\;">SAVE THE DATE</strong></p><p>Join ACEC/MA as we mark the end of another successful year. We will celebrate our FY2026 Board of Directors and Committee/Forum leaders and introduce our FY2027 Board at this reception\, as we enjoy appetizers and cocktails with plenty of opportunities for networking<strong fr-original-style="box-sizing: border-box\; font-weight: 700\;" style="box-sizing: border-box\; font-weight: 700\;">.&nbsp\;</strong></p><p style='box-sizing: border-box\; word-break: break-word\; margin-top: 0px\; padding-top: 0px\; color: rgb(0\, 0\, 0)\; font-family: "Nunito Sans"\, sans-serif\; font-size: 16px\; font-style: normal\; font-variant-ligatures: normal\; font-variant-caps: normal\; font-weight: 300\; letter-spacing: normal\; orphans: 2\; text-align: start\; text-indent: 0px\; text-transform: none\; widows: 2\; word-spacing: 0px\; -webkit-text-stroke-width: 0px\; white-space: normal\; background-color: rgb(250\, 251\, 253)\; text-decoration-thickness: initial\; text-decoration-style: initial\; text-decoration-color: initial\;'>More information coming soon!</p><p style='box-sizing: border-box\; word-break: break-word\; margin-top: 0px\; padding-top: 0px\; color: rgb(0\, 0\, 0)\; font-family: "Nunito Sans"\, sans-serif\; font-size: 16px\; font-style: normal\; font-variant-ligatures: normal\; font-variant-caps: normal\; font-weight: 300\; letter-spacing: normal\; orphans: 2\; text-align: start\; text-indent: 0px\; text-transform: none\; widows: 2\; word-spacing: 0px\; -webkit-text-stroke-width: 0px\; white-space: normal\; background-color: rgb(250\, 251\, 253)\; text-decoration-thickness: initial\; text-decoration-style: initial\; text-decoration-color: initial\;'><br></p><p><br></p><p><br></p></body></html>
LOCATION:Boston MA
UID:e.4302.1431969
SEQUENCE:3
DTSTAMP:20260421T031032Z
URL:https://members.acecma.org/committeecalendar/Details/acec-ma-annual-celebration-2026-1694789?sourceTypeId=Hub
END:VEVENT
END:VCALENDAR
