BEGIN:VCALENDAR
VERSION:2.0
PRODID:-//ChamberMaster//Event Calendar 2.0//EN
METHOD:PUBLISH
X-PUBLISHED-TTL:P1H
REFRESH-INTERVAL:P1H
CALSCALE:GREGORIAN
BEGIN:VTIMEZONE
TZID:America/New_York
BEGIN:DAYLIGHT
RRULE:FREQ=YEARLY;BYMONTH=3;BYDAY=2SU
DTSTART:20070101T000000
TZOFFSETFROM:-0500
TZOFFSETTO:-0400
TZNAME:Eastern Daylight Time
END:DAYLIGHT
BEGIN:STANDARD
RRULE:FREQ=YEARLY;BYMONTH=11;BYDAY=1SU
DTSTART:20070101T000000
TZOFFSETFROM:-0400
TZOFFSETTO:-0500
TZNAME:Eastern Standard Time
END:STANDARD
END:VTIMEZONE
BEGIN:VEVENT
DTSTART;TZID=America/New_York:20260504T180000
DTEND;TZID=America/New_York:20260504T200000
X-MICROSOFT-CDO-ALLDAYEVENT:FALSE
SUMMARY:ACEC Conference - New England ACEC Networking Reception
DESCRIPTION:New England ACEC Networking Reception Join fellow New England ACEC members for a networking reception during the ACEC National Conference in Washington\, DC. This event is generously sponsored by MG+M The Law Firm.Connect with ACEC members from across the New England states at a Happy Hour on Monday\, May 4\, at historic Old Ebbitt Grill. This is an opportunity to catch up with colleagues\, build new relationships\, and strengthen regional connections outside of conference programming. If you are traveling with a spouse or partner\, they are welcome to attend as well. The evening will feature heavy hors d'oeuvres and an open bar. Please note\, the Happy Hour will be in the lower-level Cabinet Room.Thank you to MG+M The Law Firm for their support!We hope to see you there.
X-ALT-DESC;FMTTYPE=text/html:<!DOCTYPE html><html><head><title></title></head><body aria-disabled="false"><p><strong fr-original-style="" style="font-weight: 700\;">New England ACEC Networking Reception&nbsp\;</strong></p><p>Join fellow New England ACEC members for a networking reception during the ACEC National Conference in Washington\, DC. This event is generously sponsored by <strong fr-original-style="" style="font-weight: 700\;">MG+M The Law Firm</strong>.</p><p><strong fr-original-style="" style="font-weight: 700\;">Connect with ACEC members from across the New England states at a Happy Hour on Monday\, May 4\, at historic Old Ebbitt Grill.</strong> This is an opportunity to catch up with colleagues\, build new relationships\, and strengthen regional connections outside of conference programming. If you are traveling with a spouse or partner\, they are welcome to attend as well.&nbsp\;</p><p>The evening will feature heavy hors d&rsquo\;oeuvres and an open bar.&nbsp\;</p><p>Please note\, the Happy Hour will be in the lower-level Cabinet Room.</p><p>Thank you to MG+M The Law Firm for their support!</p><p>We hope to see you there.</p></body></html>
LOCATION:675 15th St NW Washington DC 20005
UID:e.4302.1444171
SEQUENCE:3
DTSTAMP:20260421T030926Z
URL:https://members.acecma.org/committeecalendar/Details/acec-conference-new-england-acec-networking-reception-1710539?sourceTypeId=Hub
END:VEVENT
END:VCALENDAR
